BEGIN:VCALENDAR
PRODID:-//eluceo/ical//2.0/EN
VERSION:2.0
CALSCALE:GREGORIAN
BEGIN:VEVENT
UID:6e93994dedd8efa077996626830c2113
DTSTAMP:20260420T003318Z
SUMMARY:RAC Baden Stamm
DESCRIPTION:Unseren September-Stamm widmen wir dem neuen Projekt von Rotary
 : "Smartphone für mine-ex".\nIn einem kleinen Workshop sammeln wir zusamm
 en Ideen\, wie wir zum Projekt beitragen könnten.\nMeny: Schweinssteak an
  Eierschwämmli-Rahmsauce mit Nüdeli und Gemüse\n\npro Person 22.-\n\n 
 \n\nFür glutenfreie Option (Reis statt Nüdeli) oder Vegi (ohne Steak) bi
 tte als Kommentar angeben.
URL:https://baden.rotaract.ch/sv/agenda/show/121655
DTSTART;TZID=Europe/Zurich:20180904T193000
DTEND;TZID=Europe/Zurich:20180904T193000
LOCATION:RAMPE Café & Bar
CATEGORIES:Rotaract
END:VEVENT
BEGIN:VTIMEZONE
TZID:Europe/Zurich
BEGIN:DAYLIGHT
DTSTART:20180904T193000
TZNAME:CEST
TZOFFSETTO:+0200
TZOFFSETFROM:+0200
END:DAYLIGHT
END:VTIMEZONE
END:VCALENDAR
