BEGIN:VCALENDAR
PRODID:-//eluceo/ical//2.0/EN
VERSION:2.0
CALSCALE:GREGORIAN
BEGIN:VEVENT
UID:e6cdd0853b5cdf8a9d95f941e5c146bb
DTSTAMP:20260422T082113Z
SUMMARY:Oktoberfest Baden 8.0
DESCRIPTION:Website: https://oktoberfest-baden.ch/
URL:https://baden.rotaract.ch/nl/agenda/show/176587
DTSTART;TZID=Europe/Zurich:20241025T170000
DTEND;TZID=Europe/Zurich:20241025T235500
LOCATION:Trafoplatz\, Baden
CATEGORIES:Rotaract
END:VEVENT
BEGIN:VTIMEZONE
TZID:Europe/Zurich
BEGIN:DAYLIGHT
DTSTART:20241025T170000
TZNAME:CEST
TZOFFSETTO:+0200
TZOFFSETFROM:+0200
END:DAYLIGHT
END:VTIMEZONE
END:VCALENDAR
