BEGIN:VCALENDAR
PRODID:-//eluceo/ical//2.0/EN
VERSION:2.0
CALSCALE:GREGORIAN
BEGIN:VEVENT
UID:e4127eb9a56c55085bfd5c2103b8ca56
DTSTAMP:20260422T071601Z
SUMMARY:FIIRABIGBIER
DESCRIPTION:Sito web: https://www.biergartenbaden.ch/
URL:https://baden.rotaract.ch/it/agenda/show/146699
DTSTART;TZID=Europe/Zurich:20220715T180000
DTEND;TZID=Europe/Zurich:20220715T230000
LOCATION:Biergarten Baden\, Müllerbräu Areal\, Dynamostrasse 8\, 5400 Bad
 en
CATEGORIES:Rotaract
END:VEVENT
BEGIN:VTIMEZONE
TZID:Europe/Zurich
BEGIN:DAYLIGHT
DTSTART:20220715T180000
TZNAME:CEST
TZOFFSETTO:+0200
TZOFFSETFROM:+0200
END:DAYLIGHT
END:VTIMEZONE
END:VCALENDAR
