BEGIN:VCALENDAR
PRODID:-//eluceo/ical//2.0/EN
VERSION:2.0
CALSCALE:GREGORIAN
BEGIN:VEVENT
UID:3197a0a098cbe25cce96d64cabe28b94
DTSTAMP:20260421T202811Z
SUMMARY:RAC Baden Stamm mit Spezialprogramm
DESCRIPTION:Jonas Frieg hält an unserem Stamm einen Vortrag über das Soci
 al Projekt "Kids Camp".\n\n\nNach dem offiziellen Teil des Novemberstammes
  lernen wir zusammen den Sport "Polefitness" im Loft1 (in Baden) kennen. F
 rauen und Männer sind herzlich willkommen! \;)\n\nDie Teilnahmekosten fü
 r RAC Baden Mitglieder werden vom Club übernommen.\n\nMitnehmen: bequeme 
 Sportkleidung\, kurze Hosen und Geräteschuhe (oder Socken)\n\n\nProgramm\
 n\n19:00 Abendessen\n\n19:30 Stamm\n\n20:30 Polefitness Probelektion (Loft
 1)\nMenu: Chicken Casimir mit Früchte und Butterreis\n\nVegi: Gebratene R
 eisnudeln aus dem Wok mit Gemüsestreifen und Ei\n\n22.- / Person\n\nFür 
 Vegi-Menü bitte im Kommentarfeld anmerken!\n\n\nDie Anmeldung fürs Abend
 essen und das Polefitness ist verpflichtend.
URL:https://baden.rotaract.ch/it/agenda/show/121747
DTSTART;TZID=Europe/Zurich:20181106T190000
DTEND;TZID=Europe/Zurich:20181106T213000
LOCATION:RAMPE Café & Bar
CATEGORIES:Rotaract
END:VEVENT
BEGIN:VTIMEZONE
TZID:Europe/Zurich
BEGIN:STANDARD
DTSTART:20181106T190000
TZNAME:CET
TZOFFSETTO:+0100
TZOFFSETFROM:+0100
END:STANDARD
END:VTIMEZONE
END:VCALENDAR
