BEGIN:VCALENDAR
PRODID:-//eluceo/ical//2.0/EN
VERSION:2.0
CALSCALE:GREGORIAN
BEGIN:VEVENT
UID:434ebd949fc09fcc23a9e30e9adb60b2
DTSTAMP:20260420T021930Z
SUMMARY:RAC Baden Stamm
DESCRIPTION:Vefsíða: https://rampe-baden.ch/
URL:https://baden.rotaract.ch/is/agenda/show/155380
DTSTART;TZID=Europe/Zurich:20230502T190000
DTEND;TZID=Europe/Zurich:20230502T210000
LOCATION:Restaurant Rampe\, Bruggerstrasse 37\, 5400 Baden\, Schweiz
CATEGORIES:Rotaract
END:VEVENT
BEGIN:VTIMEZONE
TZID:Europe/Zurich
BEGIN:DAYLIGHT
DTSTART:20230502T190000
TZNAME:CEST
TZOFFSETTO:+0200
TZOFFSETFROM:+0200
END:DAYLIGHT
END:VTIMEZONE
END:VCALENDAR
