BEGIN:VCALENDAR
PRODID:-//eluceo/ical//2.0/EN
VERSION:2.0
CALSCALE:GREGORIAN
BEGIN:VEVENT
UID:cb657479161f4599ef25aa9f3304fe50
DTSTAMP:20260422T022214Z
SUMMARY:Fiirabigbier
DESCRIPTION:Vefsíða: https://rampe-baden.ch/
URL:https://baden.rotaract.ch/is/agenda/show/146892
DTSTART;TZID=Europe/Zurich:20221118T180000
DTEND;TZID=Europe/Zurich:20221118T230000
LOCATION:Restaurant Rampe\, Bruggerstrasse 37\, 5400 Baden
CATEGORIES:Rotaract
END:VEVENT
BEGIN:VTIMEZONE
TZID:Europe/Zurich
BEGIN:STANDARD
DTSTART:20221118T180000
TZNAME:CET
TZOFFSETTO:+0100
TZOFFSETFROM:+0100
END:STANDARD
END:VTIMEZONE
END:VCALENDAR
