BEGIN:VCALENDAR
PRODID:-//eluceo/ical//2.0/EN
VERSION:2.0
CALSCALE:GREGORIAN
BEGIN:VEVENT
UID:3be54b19578820b9f1b70fb2762d5675
DTSTAMP:20260423T100637Z
SUMMARY:Clean-Up-Day
DESCRIPTION:
URL:https://baden.rotaract.ch/is/agenda/show/142072
DTSTART;TZID=Europe/Zurich:20220521T100000
DTEND;TZID=Europe/Zurich:20220521T150000
LOCATION:Baden
CATEGORIES:Rotaract
END:VEVENT
BEGIN:VTIMEZONE
TZID:Europe/Zurich
BEGIN:DAYLIGHT
DTSTART:20220521T100000
TZNAME:CEST
TZOFFSETTO:+0200
TZOFFSETFROM:+0200
END:DAYLIGHT
END:VTIMEZONE
END:VCALENDAR
