BEGIN:VCALENDAR
PRODID:-//eluceo/ical//2.0/EN
VERSION:2.0
CALSCALE:GREGORIAN
BEGIN:VEVENT
UID:a4ba641f12e85fac47618785129654b2
DTSTAMP:20260423T204324Z
SUMMARY:Fiirabigbier
DESCRIPTION:
URL:https://baden.rotaract.ch/fr/agenda/show/155384
DTSTART;TZID=Europe/Zurich:20230317T180000
DTEND;TZID=Europe/Zurich:20230317T220000
LOCATION:tbd
CATEGORIES:Rotaract
END:VEVENT
BEGIN:VTIMEZONE
TZID:Europe/Zurich
BEGIN:STANDARD
DTSTART:20230317T180000
TZNAME:CET
TZOFFSETTO:+0100
TZOFFSETFROM:+0100
END:STANDARD
END:VTIMEZONE
END:VCALENDAR
