BEGIN:VCALENDAR
PRODID:-//eluceo/ical//2.0/EN
VERSION:2.0
CALSCALE:GREGORIAN
BEGIN:VEVENT
UID:a36c14d2e4d57a3fa8f08ff9524ccf6e
DTSTAMP:20260423T204541Z
SUMMARY:RAC Baden Stamm
DESCRIPTION:Site internet: https://rampe-baden.ch/
URL:https://baden.rotaract.ch/fr/agenda/show/155373
DTSTART;TZID=Europe/Zurich:20230307T190000
DTEND;TZID=Europe/Zurich:20230307T210000
LOCATION:Restaurant Rampe\, Bruggerstrasse 37\, 5400 Baden\, Schweiz
CATEGORIES:Rotaract
END:VEVENT
BEGIN:VTIMEZONE
TZID:Europe/Zurich
BEGIN:STANDARD
DTSTART:20230307T190000
TZNAME:CET
TZOFFSETTO:+0100
TZOFFSETFROM:+0100
END:STANDARD
END:VTIMEZONE
END:VCALENDAR
