BEGIN:VCALENDAR
PRODID:-//eluceo/ical//2.0/EN
VERSION:2.0
CALSCALE:GREGORIAN
BEGIN:VEVENT
UID:15fde7d03584938ba4612ee3c5a6da41
DTSTAMP:20260423T072200Z
SUMMARY:Kidscamp 2022 - Wir suchen Dich
DESCRIPTION:
URL:https://baden.rotaract.ch/fr/agenda/show/138098
DTSTART;TZID=Europe/Zurich:20220716T000000
DTEND;TZID=Europe/Zurich:20220723T000000
LOCATION:Ferienhaus Eggli\, Saanen (Bern)
CATEGORIES:Rotaract
END:VEVENT
BEGIN:VTIMEZONE
TZID:Europe/Zurich
BEGIN:DAYLIGHT
DTSTART:20220716T000000
TZNAME:CEST
TZOFFSETTO:+0200
TZOFFSETFROM:+0200
END:DAYLIGHT
END:VTIMEZONE
END:VCALENDAR
