BEGIN:VCALENDAR
PRODID:-//eluceo/ical//2.0/EN
VERSION:2.0
CALSCALE:GREGORIAN
BEGIN:VEVENT
UID:9bd6656ccc36ee8a031c9e7c6f17e8da
DTSTAMP:20260425T121222Z
SUMMARY:RAC Baden Stamm - Plauderstamm
DESCRIPTION:
URL:https://baden.rotaract.ch/fr/agenda/show/133610
DTSTART;TZID=Europe/Zurich:20220607T190000
DTEND;TZID=Europe/Zurich:20220607T220000
LOCATION:Henry's Bar
CATEGORIES:Rotaract
END:VEVENT
BEGIN:VTIMEZONE
TZID:Europe/Zurich
BEGIN:DAYLIGHT
DTSTART:20220607T190000
TZNAME:CEST
TZOFFSETTO:+0200
TZOFFSETFROM:+0200
END:DAYLIGHT
END:VTIMEZONE
END:VCALENDAR
