BEGIN:VCALENDAR
PRODID:-//eluceo/ical//2.0/EN
VERSION:2.0
CALSCALE:GREGORIAN
BEGIN:VEVENT
UID:e4f06fd21f967e9355dc7d127ee65ce9
DTSTAMP:20260423T122141Z
SUMMARY:RAC Baden Stamm
DESCRIPTION:Mehr Informationen folgen!\nMenu: Infos folgen.\n\nFür vegetar
 ische Variante bitte im Kommentarfeld anmerken.\n\nKosten: 22.- / Person\n
 \n(Achtung: Die Anmeldung fürs Essen ist verbindlich!)
URL:https://baden.rotaract.ch/fr/agenda/show/121751
DTSTART;TZID=Europe/Zurich:20190305T193000
DTEND;TZID=Europe/Zurich:20190305T193000
LOCATION:RAMPE Café & Bar
CATEGORIES:Rotaract
END:VEVENT
BEGIN:VTIMEZONE
TZID:Europe/Zurich
BEGIN:STANDARD
DTSTART:20190305T193000
TZNAME:CET
TZOFFSETTO:+0100
TZOFFSETFROM:+0100
END:STANDARD
END:VTIMEZONE
END:VCALENDAR
