BEGIN:VCALENDAR
PRODID:-//eluceo/ical//2.0/EN
VERSION:2.0
CALSCALE:GREGORIAN
BEGIN:VEVENT
UID:1afb755933ccd50c81b65cacbc16931a
DTSTAMP:20260423T143323Z
SUMMARY:RAC Baden Plauderstamm
DESCRIPTION:Webseite: https://rampe-baden.ch/
URL:https://baden.rotaract.ch/de/agenda/show/155388
DTSTART;TZID=Europe/Zurich:20230606T190000
DTEND;TZID=Europe/Zurich:20230606T210000
LOCATION:Restaurant Rampe\, Bruggerstrasse 37\, 5400 Baden\, Schweiz
CATEGORIES:Rotaract
END:VEVENT
BEGIN:VTIMEZONE
TZID:Europe/Zurich
BEGIN:DAYLIGHT
DTSTART:20230606T190000
TZNAME:CEST
TZOFFSETTO:+0200
TZOFFSETFROM:+0200
END:DAYLIGHT
END:VTIMEZONE
END:VCALENDAR
