BEGIN:VCALENDAR
PRODID:-//eluceo/ical//2.0/EN
VERSION:2.0
CALSCALE:GREGORIAN
BEGIN:VEVENT
UID:4dc7988f90380883d7433ec1b8045dd4
DTSTAMP:20260423T163017Z
SUMMARY:Fiirabigbier
DESCRIPTION:
URL:https://baden.rotaract.ch/de/agenda/show/155386
DTSTART;TZID=Europe/Zurich:20230519T180000
DTEND;TZID=Europe/Zurich:20230519T220000
LOCATION:tbd
CATEGORIES:Rotaract
END:VEVENT
BEGIN:VTIMEZONE
TZID:Europe/Zurich
BEGIN:DAYLIGHT
DTSTART:20230519T180000
TZNAME:CEST
TZOFFSETTO:+0200
TZOFFSETFROM:+0200
END:DAYLIGHT
END:VTIMEZONE
END:VCALENDAR
