BEGIN:VCALENDAR
PRODID:-//eluceo/ical//2.0/EN
VERSION:2.0
CALSCALE:GREGORIAN
BEGIN:VEVENT
UID:62a032e6dbdff64f21988526eed15527
DTSTAMP:20260423T161726Z
SUMMARY:Fiirabigbier
DESCRIPTION:
URL:https://baden.rotaract.ch/de/agenda/show/155385
DTSTART;TZID=Europe/Zurich:20230421T180000
DTEND;TZID=Europe/Zurich:20230421T220000
LOCATION:tbd
CATEGORIES:Rotaract
END:VEVENT
BEGIN:VTIMEZONE
TZID:Europe/Zurich
BEGIN:DAYLIGHT
DTSTART:20230421T180000
TZNAME:CEST
TZOFFSETTO:+0200
TZOFFSETFROM:+0200
END:DAYLIGHT
END:VTIMEZONE
END:VCALENDAR
