BEGIN:VCALENDAR
PRODID:-//eluceo/ical//2.0/EN
VERSION:2.0
CALSCALE:GREGORIAN
BEGIN:VEVENT
UID:1222b884d28b219f0b68bb88322523aa
DTSTAMP:20260423T181518Z
SUMMARY:RAC Baden Stamm
DESCRIPTION:Webseite: https://rampe-baden.ch/
URL:https://baden.rotaract.ch/de/agenda/show/155371
DTSTART;TZID=Europe/Zurich:20230207T190000
DTEND;TZID=Europe/Zurich:20230207T210000
LOCATION:Restaurant Rampe\, Bruggerstrasse 37\, 5400 Baden\, Schweiz
CATEGORIES:Rotaract
END:VEVENT
BEGIN:VTIMEZONE
TZID:Europe/Zurich
BEGIN:STANDARD
DTSTART:20230207T190000
TZNAME:CET
TZOFFSETTO:+0100
TZOFFSETFROM:+0100
END:STANDARD
END:VTIMEZONE
END:VCALENDAR
