BEGIN:VCALENDAR
PRODID:-//eluceo/ical//2.0/EN
VERSION:2.0
CALSCALE:GREGORIAN
BEGIN:VEVENT
UID:5b04e416dc01ef8acd9d24235fe91c23
DTSTAMP:20260423T215708Z
SUMMARY:RAC Baden Stamm
DESCRIPTION:Webseite: https://rampe-baden.ch/
URL:https://baden.rotaract.ch/de/agenda/show/146778
DTSTART;TZID=Europe/Zurich:20221101T190000
DTEND;TZID=Europe/Zurich:20221101T190000
LOCATION:Rampe Baden
CATEGORIES:Rotaract
END:VEVENT
BEGIN:VTIMEZONE
TZID:Europe/Zurich
BEGIN:STANDARD
DTSTART:20221101T190000
TZNAME:CET
TZOFFSETTO:+0100
TZOFFSETFROM:+0100
END:STANDARD
END:VTIMEZONE
END:VCALENDAR
