BEGIN:VCALENDAR
PRODID:-//eluceo/ical//2.0/EN
VERSION:2.0
CALSCALE:GREGORIAN
BEGIN:VEVENT
UID:15caf36846d11ba86ec53ecb81d184b5
DTSTAMP:20260421T132621Z
SUMMARY:Dances and Dreams: Benefizkonzert zugunsten der SAO Association
DESCRIPTION:Web stranica: https://andermattmusic.ch/en/event/dances-and-dre
 ams/
URL:https://polaris.rotary.ch/bs/agenda/show/201162
DTSTART;TZID=Europe/Zurich:20260314T180000
DTEND;TZID=Europe/Zurich:20260314T210000
LOCATION:Andermatt Concert Hall
CATEGORIES:Rotary
END:VEVENT
BEGIN:VTIMEZONE
TZID:Europe/Zurich
BEGIN:STANDARD
DTSTART:20260314T180000
TZNAME:CET
TZOFFSETTO:+0100
TZOFFSETFROM:+0100
END:STANDARD
END:VTIMEZONE
END:VCALENDAR
